BEGIN:VCALENDAR
VERSION:2.0
PRODID:-//Brauhaus Kühler Krug - ECPv6.15.17.1//NONSGML v1.0//EN
CALSCALE:GREGORIAN
METHOD:PUBLISH
X-WR-CALNAME:Brauhaus Kühler Krug
X-ORIGINAL-URL:https://brauhaus-karlsruhe.de
X-WR-CALDESC:Veranstaltungen für Brauhaus Kühler Krug
REFRESH-INTERVAL;VALUE=DURATION:PT1H
X-Robots-Tag:noindex
X-PUBLISHED-TTL:PT1H
BEGIN:VTIMEZONE
TZID:Europe/Paris
BEGIN:DAYLIGHT
TZOFFSETFROM:+0100
TZOFFSETTO:+0200
TZNAME:CEST
DTSTART:20250330T010000
END:DAYLIGHT
BEGIN:STANDARD
TZOFFSETFROM:+0200
TZOFFSETTO:+0100
TZNAME:CET
DTSTART:20251026T010000
END:STANDARD
BEGIN:DAYLIGHT
TZOFFSETFROM:+0100
TZOFFSETTO:+0200
TZNAME:CEST
DTSTART:20260329T010000
END:DAYLIGHT
BEGIN:STANDARD
TZOFFSETFROM:+0200
TZOFFSETTO:+0100
TZNAME:CET
DTSTART:20261025T010000
END:STANDARD
BEGIN:DAYLIGHT
TZOFFSETFROM:+0100
TZOFFSETTO:+0200
TZNAME:CEST
DTSTART:20270328T010000
END:DAYLIGHT
BEGIN:STANDARD
TZOFFSETFROM:+0200
TZOFFSETTO:+0100
TZNAME:CET
DTSTART:20271031T010000
END:STANDARD
END:VTIMEZONE
BEGIN:VEVENT
DTSTART;VALUE=DATE:20260501
DTEND;VALUE=DATE:20260502
DTSTAMP:20260421T170149
CREATED:20260415T101338Z
LAST-MODIFIED:20260415T101338Z
UID:21918-1777593600-1777679999@brauhaus-karlsruhe.de
SUMMARY:01. Mai
DESCRIPTION:1. Mai im Kühler Krug \nAm Donnerstag\, den 1. Mai\, feiern wir gemeinsam den Start in den Wonnemonat – mit Maibaumstellen\, Maibockanstich und Frühschoppen. \nAb 10:30 Uhr sorgt der Musikverein Söllingen für beste Stimmung und zünftige Unterhaltung. Dazu gibt es frisch gezapften Maibock und herzhafte Klassiker aus unserer Küche. \nFreut euch auf unsere besonderen Angebote: \nKnusprige SchweinshaxeKnusprig gegrilles 1/2 Hähnchen \nKommt vorbei\, genießt den Feiertag mit Musik\, gutem Bier und leckerem Essen – wir freuen uns auf euch!
URL:https://brauhaus-karlsruhe.de/event/01-mai/
ATTACH;FMTTYPE=image/webp:https://brauhaus-karlsruhe.de/wp-content/uploads/2026/04/01.-Mai-2025.webp
END:VEVENT
END:VCALENDAR